BEGIN:VCALENDAR
VERSION:2.0
PRODID:-//Tukios.com/
BEGIN:VEVENT
UID:7ae68359-002a-4633-a1d9-6fa267b340dd@www.littlejohnfuneralhomellc.com
DTSTAMP:20260422T193139Z
DTSTART:20260430T140000Z
DTEND:20260430T150000Z
SUMMARY:Visitation
DESCRIPTION:
URL:https://www.littlejohnfuneralhomellc.com/obituaries/prentis-ronquillo
LOCATION:St. James Methodist Church 1925 Ursulines Ave  New Orleans LA 
	70116
GEO:29.9690216;-90.0723744
END:VEVENT
END:VCALENDAR