BEGIN:VCALENDAR
VERSION:2.0
PRODID:-//Tukios.com/
BEGIN:VEVENT
UID:9f25ec2d-7fff-477d-b726-a5057e9cd8af@www.littlejohnfuneralhomellc.com
DTSTAMP:20260422T193130Z
DTSTART:20260430T150000Z
DTEND:20260430T160000Z
SUMMARY:Celebration of Life
DESCRIPTION:
URL:https://www.littlejohnfuneralhomellc.com/obituaries/prentis-ronquillo
LOCATION:St. James Methodist Church 1925 Ursulines Ave  New Orleans LA 
	70116
GEO:29.9690216;-90.0723744
END:VEVENT
END:VCALENDAR